BEGIN:VCALENDAR
VERSION:2.0
PRODID:-//wp-events-plugin.com//7.2.1//EN
TZID:Europe/Berlin
X-WR-TIMEZONE:Europe/Berlin
BEGIN:VEVENT
UID:480@laubach-online.de
DTSTART:20231209T150000Z
DTEND:20231209T220000Z
DTSTAMP:20231120T091527Z
URL:https://laubach-online.de/events/weihnachtbummel-gonterskirchen/
SUMMARY:Weihnachtbummel Gonterskirchen
DESCRIPTION:Gonterskirchner Adventsnachmittag\n\nin weihnachtlich stimmungs
 voller Atmosphäre\n\nStände mit kreativen Ideen\n\nfür die Winterweihna
 chtszeit:\n\nSelbstgebackenes und Selbstgemachtes\n\n(gebastelt\, genäht\
 , gestaltet oder gestickt\n\nzum Dekorieren\, Genießen\, Verschenken\n\no
 der selbst belohnen)\n\nund andere nützliche und schöne Dinge.\n\nSamsta
 g\, den 9. Dezember 2023\n\nzwischen Backhaus und DGH\n\nBeginn: 15:00 Uhr
  mit einer Andacht und den Gesangverein Horloffstimmen\n\nMit reichlich Es
 sen und Trinken\n\nkann man an diesem Nachmittag\n\ngetrost Leib und Seele
  zusammenhalten:\n\nGlühwein\, Apfelwein\,\n\nPunsch\, Kaffee\, Tee\n\nun
 d weitere Heiß- und\n\nKaltgetränke\, Waffeln\,\n\nHamburger\, Cheesebur
 ger\,\n\nverschiedene Würste und Wildwurstsorten\n\nlassen keine Wünsche
  offen.\n\nEs lädt ein:\n\nAG-Kultur\, Freiwillige Feuerwehr\, Landfrauen
 \, Outdoorteam\n\nJugendclub\, Obst- und Gartenbauverein\, Gesangverein Ho
 rloffstimmen\n\nSportverein\, Naturkindergarten Waldhüpfer und privat Aus
 steller
ATTACH;FMTTYPE=image/jpeg:https://laubach-online.de/wp-content/uploads/202
 3/11/WeihanchtsbummelGoki-pdf.jpg
CATEGORIES:Märkte &amp; Feste
LOCATION:Dorfgemeinschaftshaus Gonterskirchen\, Mittelgasse\, 35321 Laubach
 \, Deutschland
GEO:50.515545;9.023603
X-APPLE-STRUCTURED-LOCATION;VALUE=URI;X-ADDRESS=Mittelgasse\, 35321 Laubach
 \, Deutschland;X-APPLE-RADIUS=100;X-TITLE=Dorfgemeinschaftshaus Gonterskir
 chen:geo:50.515545,9.023603
END:VEVENT
END:VCALENDAR