BEGIN:VCALENDAR
VERSION:2.0
PRODID:-//wp-events-plugin.com//7.2.1//EN
TZID:Europe/Berlin
X-WR-TIMEZONE:Europe/Berlin
BEGIN:VEVENT
UID:479@laubach-online.de
DTSTART:20231213T190000Z
DTEND:20231213T200000Z
DTSTAMP:20231120T090814Z
URL:https://laubach-online.de/events/weihnachtliche-abendmusik/
SUMMARY:Weihnachtliche Abendmusik
DESCRIPTION:Herzliche Einladung zur weihnachtlichen Abendmusik im Rahmen de
 s Adventskalenders der WORM Gemeinde Laubach\, mit Überraschung!\nBekannt
 e\, deutsche Weihnachtslieder\, u.a. Maria durch ein Dornwaldging\, Ich br
 ach drei dürre Reiselein\, Still\, still\, still\, Tochter Zion uvm. in n
 euem Kleid\, unter der Leitung von Sabine Spahn.
ATTACH;FMTTYPE=image/jpeg:https://laubach-online.de/wp-content/uploads/202
 3/11/Werb1-web2.jpg
CATEGORIES:Konzerte
LOCATION:Ev. Kirche Münster\, Unterpforte 28\, Laubach\, 35321\, Deutschla
 nd
GEO:50.552436;8.919841
X-APPLE-STRUCTURED-LOCATION;VALUE=URI;X-ADDRESS=Unterpforte 28\, Laubach\, 
 35321\, Deutschland;X-APPLE-RADIUS=100;X-TITLE=Ev. Kirche Münster:geo:50.
 552436,8.919841
END:VEVENT
END:VCALENDAR