BEGIN:VCALENDAR
VERSION:2.0
PRODID:-//wp-events-plugin.com//7.2.1//EN
TZID:Europe/Berlin
X-WR-TIMEZONE:Europe/Berlin
BEGIN:VEVENT
UID:216@laubach-online.de
DTSTART;VALUE=DATE:20231202
DTEND;VALUE=DATE:20231204
DTSTAMP:20231120T105523Z
URL:https://laubach-online.de/events/weihnachtsmarkt/
SUMMARY:Weihnachtsmarkt
DESCRIPTION:Der älteste Weihnachtsmarkt Oberhessens\, mit Weihnachtsatmosp
 häre pur – mit Weihnachtsliedern\, leckeren Waffeln\, Fruchtpunsch\, Ap
 felküchlein\, Glühwein in verschiedensten Variationen\nund weihnachtlich
 en Angeboten an zahlreichen Ständen in der wunderschönen Altstadt Laubac
 hs – das ist der Weihnachtsmarkt der Stadt Laubach am 2. Und 3. Dezember
  2023.\nZudem haben sich die Teilnehmer besondere Mühe mit der Dekoration
  gemacht und mit zahlreichen Lichterketten und Weihnachtsbäumen für das 
 passende weihnachtliche Ambiente in der mittelalterlichen Altstadt gesorgt
 . Eröffnet wird der Weihnachtsmarkt traditionell mit einem ökumenischen 
 Gottesdienst um 15 Uhr mit anschließendem Konzert 15:30 Uhr des Musikvere
 ins 1832 Laubach e. V. an der Friedrichsburg.\nZudem gibt es an beiden Tag
 en einen Kreativ-Basar\, dieses Mal im ehemaligen Supermarkt am Engelsbrun
 nen\, der liebevoll gefertigte Weihnachtsdekorationen und stilvolles Kunst
 handwerk bietet. Schmuck\, Holzarbeiten\, Keramik\, Gestricktes\, Gehäkel
 tes\, Beton- und Gips-Deko sowie weihnachtliche Gestecke und vieles mehr s
 ind hier zu finden. Der Weihnachtsmarkt sowie der Kreativbasar finden am S
 amstag ab 15 Uhr und am Sonntag ab 12 Uhr statt.\nUm 16:30 Uhr kommt der N
 ikolaus am Samstag und Sonntag zur Bescherung für die kleinen Marktbesuch
 er auf den Markt. Die evangelische Kirchengemeinde bastelt am Samstag mit 
 Kindern von 15:30 – 17:30 Uhr im evangelischen Gemeindehaus und lies daz
 u Weihnachtsgeschichten. Am Sonntag ab 12 Uhr wird das Team vom Laubacher 
 Kinder- und Jugendbüro auf dem Marktplatz weihnachtliche Deko mit Kindern
  gestalten.\nAm Samstag gibt es in der Stadtkirche ab 16 Uhr eine Open Sta
 ge „Weihnachts Edition“ - wer schon immer mal vor Publikum singen woll
 te ist hier genau richtig. Ob als Band\, Chor oder solo\, jeder kann am Sa
 mstagabend zeigen was er kann. Voranmeldungen ist willkommen unter anja.ma
 rtine@t-online.de.\n„Mit einem attraktiven Programm und vielfältigen kr
 eativen sowie kulinarischen Angeboten\, z.B. mit heißen Kakao- und Kaffee
 -Spezialitäten und natürlich Glühwein und anderen heißen Getränke-Spe
 zialitäten wird eine Menge geboten für die sicherlich wieder zahlreichen
  Besucherinnen und Besucher“\, wie sich Bürgermeister Matthias Meyer da
 rauf freut.\nÜbrigens endet der Weihnachtsmarkt natürlich nicht mit dem 
 Ende des Programms\, im Gegenteil hoffen die Veranstalter\, dass sich mög
 lichst viele Besucherinnen und Besucher länger rund um die Hütten auf Ma
 rkt- und Kirchplatz aufhalten und auch in den Abendstunden Freude beim Lau
 bacher Weihnachtsmarkt haben.\nInformationen zum Laubacher Weihnachtsmarkt
  unter Tel. 06405 – 921 321\, tourist-info@laubach-online.de		\n								
 								\n															\n																\n															\n												
 				\n															\n																\n															
ATTACH;FMTTYPE=image/jpeg:https://laubach-online.de/wp-content/uploads/202
 3/01/image00019-scaled.jpeg
CATEGORIES:Märkte &amp; Feste
END:VEVENT
END:VCALENDAR