BEGIN:VCALENDAR
VERSION:2.0
PRODID:-//wp-events-plugin.com//7.2.1//EN
TZID:Europe/Berlin
X-WR-TIMEZONE:Europe/Berlin
BEGIN:VEVENT
UID:1092@laubach-online.de
DTSTART:20250322T100000Z
DTEND:20250322T160000Z
DTSTAMP:20241209T083452Z
URL:https://laubach-online.de/events/wetterfeld-putzt-25/
SUMMARY:Wetterfeld putzt 25
DESCRIPTION:Auch in 2025 soll wieder eine Reinigungsaktion in der Gemarkung
  von Wetterfeld stattfinden.
ATTACH;FMTTYPE=image/jpeg:https://laubach-online.de/wp-content/uploads/202
 1/11/muellbaer.jpg
LOCATION:Dorfgemeinschaftshaus Wetterfeld\, Ruppertsburger Str. 3\, Wetterf
 eld\, 35321\, Deutschland
GEO:50.547523;8.955822
X-APPLE-STRUCTURED-LOCATION;VALUE=URI;X-ADDRESS=Ruppertsburger Str. 3\, Wet
 terfeld\, 35321\, Deutschland;X-APPLE-RADIUS=100;X-TITLE=Dorfgemeinschafts
 haus Wetterfeld:geo:50.547523,8.955822
END:VEVENT
END:VCALENDAR