BEGIN:VCALENDAR
VERSION:2.0
PRODID:-//wp-events-plugin.com//7.2.1//EN
TZID:Europe/Berlin
X-WR-TIMEZONE:Europe/Berlin
BEGIN:VEVENT
UID:1486@laubach-online.de
DTSTART:20261015T120000Z
DTEND:20261018T210000Z
DTSTAMP:20260202T104518Z
URL:https://laubach-online.de/events/winterzauber-laubach-3/
SUMMARY:Winterzauber Laubach
DESCRIPTION:Wer in aller Ruhe und nicht auf den letzten Drücker in märche
 nhaftem Ambiente nach schönen Dingen für die Liebsten sucht\, ist beim W
 interzauber Laubach genau richtig. Rund um das festlich illuminierte Schlo
 ss und im Park präsentiert einer der ersten vorweihnachtlichen Märkte de
 r Region allerlei Geschenkideen. Winterliche Dekoration\, handgefertigte W
 eihnachtskarten\, Zirbenholzkissen oder festliche Blumenkränze\, Weihnach
 tsfiguren und Holzspielzeug - beim Winterzauber findet sich schlicht für 
 jeden etwas. Informationen: www.gartenfestivals.de
ATTACH;FMTTYPE=image/jpeg:https://laubach-online.de/wp-content/uploads/202
 4/10/Winterzauber-Laubach_Abendstunden2.jpeg
LOCATION:Schloss Laubach\, Schloss\, Laubach\, Deutschland
GEO:50.542753;8.991526
X-APPLE-STRUCTURED-LOCATION;VALUE=URI;X-ADDRESS=Schloss\, Laubach\, Deutsch
 land;X-APPLE-RADIUS=100;X-TITLE=Schloss Laubach:geo:50.542753,8.991526
END:VEVENT
END:VCALENDAR