BEGIN:VCALENDAR
VERSION:2.0
PRODID:-//wp-events-plugin.com//7.2.1//EN
TZID:Europe/Berlin
X-WR-TIMEZONE:Europe/Berlin
BEGIN:VEVENT
UID:1076@laubach-online.de
DTSTART;VALUE=DATE:20241024
DTEND;VALUE=DATE:20241028
DTSTAMP:20241025T100339Z
URL:https://laubach-online.de/events/winterzauber/
SUMMARY:Winterzauber
DESCRIPTION:\n\n\nDie gräfliche Familie zu Solms-Laubach öffnet für den 
 Winterzauber ihre Tore und lässt das Schloss Laubach in vorweihnachtliche
 m Lichterglanz erstrahlen.\n\nDas illuminierte Schloss\, die mit leuchtend
 en Sternen und Girlanden dekorierten Pagodenzelte sowie die liebevoll insz
 enierten Stände\, machen diesen besonderen Flair des winterlich-märchenh
 aften Marktes aus. In den prachtvoll hergerichteten Innen- und Außenfläc
 hen präsentieren rund 130 Aussteller ihre ausgefallenen und exklusiven Wa
 ren. Schloss und Park Laubach werden zu einer vorweihnachtlichen Bühne mi
 t Kunsthandwerk\, Weihnachtsschmuck\, Glühwein\, Stollen und vielen schö
 nen Dingen für ein kuscheliges Zuhause. Das kulinarische Angebot vor dem 
 Laubacher Schloss ist wie immer vielfältig und besonders lecker. Feinstes
  Mandelnougat\, edle Trüffelfeinkost und – für diese Jahreszeit quasi 
 obligatorisch – heiße Maroni und gebrannte Mandeln stimmen auf die Wint
 erzeit ein. Auch die herzhaften Genüsse stehen dem in nichts nach. So dü
 rfen sich die Besucher zum Beispiel schon jetzt auf den leckeren finnische
 n Flammlachs freuen und dazu eine herrlich wärmende Feuerzangenbowle aus 
 dem Kupferkessel. Und exklusiv für den Winterzauber öffnet das Restauran
 t „Hirschfrikadelle“ seine Pforten. Wildspezialitäten aus den Laubach
 er Wäldern und Burger mit Raclettekäse erfreuen alle Feinschmecker.\n\n\
 n\n\n\n\nMit Einbruch der Dämmerung beginnt eine wunderbar stimmungsvolle
  Illumination vor der einmaligen Schlosskulisse – begleitet durch Live-M
 usik und winterliche Wesen auf Stelzen\, ist der Winterzauber wieder einen
  ausgedehnten Besuch wert!\n\nÖffnungszeiten\nDonnerstag: 12 bis 20 Uhr\n
 Freitag und Samstag: 11 bis 21 Uhr\nSonntag: 10 bis 19 Uhr\n\n\n
ATTACH;FMTTYPE=image/jpeg:https://laubach-online.de/wp-content/uploads/202
 4/10/Winterzauber-Laubach_Abendstunden2.jpeg
CATEGORIES:Märkte &amp; Feste
END:VEVENT
END:VCALENDAR