BEGIN:VCALENDAR
VERSION:2.0
PRODID:-//wp-events-plugin.com//7.2.1//EN
TZID:Europe/Berlin
X-WR-TIMEZONE:Europe/Berlin
BEGIN:VEVENT
UID:1252@laubach-online.de
DTSTART:20270304T090000Z
DTEND:20270304T130000Z
DTSTAMP:20250218T142632Z
URL:https://laubach-online.de/events/wochenmarkt-auf-dem-kirchplatz-2027-0
 3-04/
SUMMARY:Wochenmarkt auf dem Kirchplatz
DESCRIPTION:Wochenmarkt mit Mittagstisch für kleines Geld. Informationen u
 nter Facebook
LOCATION:Kirchplatz\, Kirchplatz\, Laubach\, Deutschland
GEO:50.542791;8.990438
X-APPLE-STRUCTURED-LOCATION;VALUE=URI;X-ADDRESS=Kirchplatz\, Laubach\, Deut
 schland;X-APPLE-RADIUS=100;X-TITLE=Kirchplatz:geo:50.542791,8.990438
END:VEVENT
END:VCALENDAR