BEGIN:VCALENDAR
VERSION:2.0
PRODID:-//wp-events-plugin.com//7.2.1//EN
TZID:Europe/Berlin
X-WR-TIMEZONE:Europe/Berlin
BEGIN:VEVENT
UID:1516@laubach-online.de
DTSTART:20260503T110000Z
DTEND:20260503T180000Z
DTSTAMP:20260302T125859Z
URL:https://laubach-online.de/events/zeit-das-sich-was-dreht-auftraktveran
 staltung-stadtradeln/
SUMMARY:Zeit\, das sich was dreht! Auftraktveranstaltung "Stadtradeln"
DESCRIPTION:11 Uhr Kinderradtour mit Besuch einer Schäferei\n15 Uhr Fahrtr
 aining für Kinder mit BDR-Kids-Rad-Diplom\n\nsowie\n\nHüpfburg\, Carrera
 bahn und Essen und Trinken vom Bürgerhausteam\, den Landfrauen und der fr
 eiwilligen Feuerwehr Ruppertsburg\n\nin Zusammenarbeit mit den Radwegebeau
 ftragten der Stadt Laubach und dem MSC Horlofftal e.V.\n\n&nbsp\;
ATTACH;FMTTYPE=image/jpeg:https://laubach-online.de/wp-content/uploads/202
 6/03/Zeit-das-sich-was-dreht-2.jpg
CATEGORIES:Märkte &amp; Feste
LOCATION:Dorfgemeinschaftshaus Ruppertsburg\, Bogenstrasse 10\, 35321 Lauba
 ch\, Deutschland
GEO:50.514897;8.964917
X-APPLE-STRUCTURED-LOCATION;VALUE=URI;X-ADDRESS=Bogenstrasse 10\, 35321 Lau
 bach\, Deutschland;X-APPLE-RADIUS=100;X-TITLE=Dorfgemeinschaftshaus Rupper
 tsburg:geo:50.514897,8.964917
END:VEVENT
END:VCALENDAR