BEGIN:VCALENDAR
VERSION:2.0
PRODID:-//wp-events-plugin.com//7.2.1//EN
TZID:Europe/Berlin
X-WR-TIMEZONE:Europe/Berlin
BEGIN:VEVENT
UID:1026@laubach-online.de
DTSTART:20240615T110000Z
DTEND:20240615T110000Z
DTSTAMP:20240524T115520Z
URL:https://laubach-online.de/events/zeit-dass-sich-was-dreht-abschlussver
 anstaltung-zum-stadtradeln/
SUMMARY:"Zeit\, dass sich was dreht" Abschlussveranstaltung zum Stadtradeln
DESCRIPTION:Höhepunkt für alle StadtradlerInnen wird die Abschlussveranst
 altung am 15.06.2024\, 11 Uhr im Schlosspark sein:\nHier findet der gemein
 same Abschluss des diesjährigen Stadtradel-Zeitraums für den Landkreis G
 ießen statt.\n\nFür die Organisation der Aktion Stadtradeln inclusive de
 r Abschlussveranstaltung ist in Laubach das Kultur- und Tourismusbüro ver
 antwortlich.\n\nBei der Abschlussveranstaltung in Laubach  wird das Kinde
 r- und Jugendbüro einen Parcours aufbauen\, in dem Geschicklichkeit gefra
 gt.\n\nWeiter geplant ist auch ein Bobby Car Rennen sowie eine Hüpfburg f
 ür die Kleinsten.\n\nEin Sicherheitstraining für Fahrrad und Pedelec bie
 tet der MSC Horlofftal an.\n\nWie die Jahre zuvor wird Herr Becker von der
  Polizeistation Grünberg Fahrräder und Pedelecs codieren.\n\nAuch an Spe
 isen und Getränken wird es nicht mangeln\, hier sind „Wurst und So.“ 
 sowie die Braumanufaktur Laubach für uns am Start.
ATTACH;FMTTYPE=image/jpeg:https://laubach-online.de/wp-content/uploads/202
 4/05/PlakatAbschluss1.jpg
CATEGORIES:Märkte &amp; Feste
LOCATION:Schlosspark\, Schlosspark\, Laubach\, Deutschland
GEO:50.544425;8.993532
X-APPLE-STRUCTURED-LOCATION;VALUE=URI;X-ADDRESS=Schlosspark\, Laubach\, Deu
 tschland;X-APPLE-RADIUS=100;X-TITLE=Schlosspark:geo:50.544425,8.993532
END:VEVENT
END:VCALENDAR