BEGIN:VCALENDAR
VERSION:2.0
PRODID:-//wp-events-plugin.com//7.2.1//EN
TZID:Europe/Berlin
X-WR-TIMEZONE:Europe/Berlin
BEGIN:VEVENT
UID:1371@laubach-online.de
DTSTART:20251011T140000Z
DTEND:20251011T170000Z
DTSTAMP:20250701T080213Z
URL:https://laubach-online.de/events/zeit-fuer-uns-kaffeeklatsch-65/
SUMMARY:Zeit für uns - Kaffeeklatsch 65+
DESCRIPTION:Liebe Mitbürgerinnen und Mitbürger\,\ndie Stadt Laubach lädt
  Sie ganz herzlich zu der Veranstaltung „Zeit für uns – Kaffeeklatsch
  65 +“ am 11.10.2025 von 14.00 bis 17.00 Uhr ein. Wir haben ein buntes U
 nterhaltungsprogramm für Sie organisiert. Für das leibliche Wohl ist auc
 h gesorgt. Der Kaffeeklatsch 65 + findet in der Sport- und Kulturhalle in 
 Laubach statt. Die persönlichen Einladungen werden Anfang September per P
 ost versendet.
ATTACH;FMTTYPE=image/jpeg:https://laubach-online.de/wp-content/uploads/202
 5/07/Seniorennachmittag.png
CATEGORIES:Märkte &amp; Feste
LOCATION:Sport- und Kulturhalle Laubach\, Felix-Klipstein-Weg 23\, Laubach\
 , 35321\, Deutschland
GEO:50.548938;8.987553
X-APPLE-STRUCTURED-LOCATION;VALUE=URI;X-ADDRESS=Felix-Klipstein-Weg 23\, La
 ubach\, 35321\, Deutschland;X-APPLE-RADIUS=100;X-TITLE=Sport- und Kulturha
 lle Laubach:geo:50.548938,8.987553
END:VEVENT
END:VCALENDAR